BEGIN:VCALENDAR
VERSION:2.0
PRODID:-//StartUp Nijmegen - ECPv6.15.20//NONSGML v1.0//EN
CALSCALE:GREGORIAN
METHOD:PUBLISH
X-WR-CALNAME:StartUp Nijmegen
X-ORIGINAL-URL:https://startupnijmegen.nl
X-WR-CALDESC:Evenementen voor StartUp Nijmegen
REFRESH-INTERVAL;VALUE=DURATION:PT1H
X-Robots-Tag:noindex
X-PUBLISHED-TTL:PT1H
BEGIN:VTIMEZONE
TZID:Europe/Amsterdam
BEGIN:DAYLIGHT
TZOFFSETFROM:+0100
TZOFFSETTO:+0200
TZNAME:CEST
DTSTART:20250330T010000
END:DAYLIGHT
BEGIN:STANDARD
TZOFFSETFROM:+0200
TZOFFSETTO:+0100
TZNAME:CET
DTSTART:20251026T010000
END:STANDARD
BEGIN:DAYLIGHT
TZOFFSETFROM:+0100
TZOFFSETTO:+0200
TZNAME:CEST
DTSTART:20260329T010000
END:DAYLIGHT
BEGIN:STANDARD
TZOFFSETFROM:+0200
TZOFFSETTO:+0100
TZNAME:CET
DTSTART:20261025T010000
END:STANDARD
BEGIN:DAYLIGHT
TZOFFSETFROM:+0100
TZOFFSETTO:+0200
TZNAME:CEST
DTSTART:20270328T010000
END:DAYLIGHT
BEGIN:STANDARD
TZOFFSETFROM:+0200
TZOFFSETTO:+0100
TZNAME:CET
DTSTART:20271031T010000
END:STANDARD
END:VTIMEZONE
BEGIN:VEVENT
DTSTART;TZID=Europe/Amsterdam:20261120T090000
DTEND;TZID=Europe/Amsterdam:20261120T160000
DTSTAMP:20260422T223410
CREATED:20260422T092520Z
LAST-MODIFIED:20260422T092520Z
UID:10000445-1795165200-1795190400@startupnijmegen.nl
SUMMARY:Radboudumc & Briskr: Carrière evenement voor promovendi & postdocs 2026
DESCRIPTION:Kom in contact met het talent van morgen op het Radboudumc Career Event\nBen je op zoek naar versterking van je team of samenwerking met hoogopgeleide onderzoekers? Doe mee aan het Radboudumc Career Event en kom direct in contact met meer dan 150 promovendi en postdocs die staan te popelen om hun volgende carrièrestap te verkennen – of het nu gaat om startups\, scale-ups of andere innovatieve organisaties. \nDit evenement van een dag lang is bedoeld om jonge onderzoekers te helpen bij het ontdekken van carrièremogelijkheden buiten de academische wereld. Het biedt inspirerende keynotes\, hands-on workshops over ondernemerschap\, consultancy en communicatie\, en eindigt met een dynamische bedrijvenmarkt waar je de deelnemers in een informele setting kunt ontmoeten. \nManieren om deel te nemen als ondernemer of bedrijf:\n\nGratis stand bedrijfsmarkt (14:55-16:00)\nPresenteer je organisatie\, deel je verhaal en kom in contact met academisch toptalent.\nSponsorpakketten voor extra zichtbaarheid\nVan een logovermelding tot een pitch op het podium – kies uw niveau van zichtbaarheid: \n\nBrons: Logo in het evenementenboekje\nZilver: Brons + onsite banner/poster\nGoud: Zilver + showcase merchandise\nPlatina: Goud + korte presentatie tijdens het programma\n\n\n\nOf je nu mensen aanneemt\, aan je startup bouwt of gewoon inspiratie wilt opdoen bij de volgende generatie innovators – jouw aanwezigheid zal het verschil maken. \nMeer informatie en aanmelden: Carrière Event voor promovendi en postdocs – Radboudumc \nGeorganiseerd door de PhD & Postdoc Council van het Radboudumc\, in samenwerking met Briskr.
URL:https://startupnijmegen.nl/evenement/radboudumc-briskr-carriere-evenement-voor-promovendi-postdocs-2026/
ATTACH;FMTTYPE=image/png:https://startupnijmegen.nl/wp-content/uploads/2026/04/FOTO-FORMATS-VOOR-WEBSITE-40.png
END:VEVENT
END:VCALENDAR