BEGIN:VCALENDAR
VERSION:2.0
PRODID:-//StartUp Nijmegen - ECPv6.15.20//NONSGML v1.0//EN
CALSCALE:GREGORIAN
METHOD:PUBLISH
X-ORIGINAL-URL:https://startupnijmegen.nl
X-WR-CALDESC:Evenementen voor StartUp Nijmegen
REFRESH-INTERVAL;VALUE=DURATION:PT1H
X-Robots-Tag:noindex
X-PUBLISHED-TTL:PT1H
BEGIN:VTIMEZONE
TZID:Europe/Amsterdam
BEGIN:DAYLIGHT
TZOFFSETFROM:+0100
TZOFFSETTO:+0200
TZNAME:CEST
DTSTART:20250330T010000
END:DAYLIGHT
BEGIN:STANDARD
TZOFFSETFROM:+0200
TZOFFSETTO:+0100
TZNAME:CET
DTSTART:20251026T010000
END:STANDARD
BEGIN:DAYLIGHT
TZOFFSETFROM:+0100
TZOFFSETTO:+0200
TZNAME:CEST
DTSTART:20260329T010000
END:DAYLIGHT
BEGIN:STANDARD
TZOFFSETFROM:+0200
TZOFFSETTO:+0100
TZNAME:CET
DTSTART:20261025T010000
END:STANDARD
BEGIN:DAYLIGHT
TZOFFSETFROM:+0100
TZOFFSETTO:+0200
TZNAME:CEST
DTSTART:20270328T010000
END:DAYLIGHT
BEGIN:STANDARD
TZOFFSETFROM:+0200
TZOFFSETTO:+0100
TZNAME:CET
DTSTART:20271031T010000
END:STANDARD
END:VTIMEZONE
BEGIN:VEVENT
DTSTART;TZID=Europe/Amsterdam:20260528T090000
DTEND;TZID=Europe/Amsterdam:20260528T103000
DTSTAMP:20260425T030323
CREATED:20260330T092028Z
LAST-MODIFIED:20260330T092028Z
UID:10000433-1779958800-1779964200@startupnijmegen.nl
SUMMARY:Briskr: Uitnodiging webinar Effectievere klantgesprekken & AI in de Sales!
DESCRIPTION:Voor ondernemers\, salesprofessionals en business developers in B2B/B2G. \nHerken je dit?\nJe hebt nét een goed gesprek gehad met een potentiële klant. De klik was er\, het aanbod stond als een huis… en toch blijft het daarna oorverdovend stil. Of misschien nog frustrerender: weken later komen er ineens bezwaren op tafel die je totaal niet zag aankomen en de deal klapt alsnog. \nHoe kan dat?\nDe meeste ondernemers en salesprofessionals richten zich vooral op hun Unique Selling Points. Logisch. Maar wat vaak vergeten wordt\, is wat er écht speelt aan de andere kant van de tafel: de twijfels\, de onderliggende motivatie en de manier waarop beslissingen worden genomen. \nEn precies dáár wordt het verschil gemaakt! \nTijdens dit webinar ontdek je een praktische en bewezen methode die je manier van verkopen fundamenteel zal veranderen; van zenden naar écht begrijpen en overtuigen. \nWat ga je ontdekken? \n\nBuying & Non-Buying Drivers: Leer hoe je de échte drijfveren en verborgen twijfels van je klant boven tafel krijgt en hoe je die effectief wegneemt.\nDe spiegelmethode: Ontdek hoe je jouw aanbod zo positioneert dat het naadloos aansluit op wat je klant nodig heeft (en nee: het gaat niet om features).\nAI in de Sales: Zie hoe wij AI-agents inzetten voor onze klanten én hoe jij vandaag nog je eigen AI Sales Agent kunt bouwen.\nPraktijkvoorbeelden: Geen theorie\, maar concrete situaties en direct toepasbare inzichten die je meteen kunt gebruiken in je volgende gesprek\n\nAls je klaar bent met “goede gesprekken zonder resultaat” en wilt leren hoe je structureel meer deals sluit\, dan wil je dit webinar niet missen! \nOver de trainer\nHans Dirne is oprichter van MyBusinessAdvisor\, MySalesAgent en Scale-Up.MBA. Hij helpt startups\, scale-ups en MKB-bedrijven om hun commerciële fundament te versterken en écht schaalbaar te worden. Dit doet hij via coachingstrajecten\, sales consultancy\, Raad van Advies\, online lesprogramma’s en de implementatie van AI Sales Agents. Met zijn scherpe blik op de psychologie van de klant en zijn expertise in AI\, weet hij als geen ander hoe je menselijke overtuigingskracht combineert met de technologie van morgen. \nPraktische informatie\nDe kosten voor dit webinar bedragen € 50\,- ex btw. \nWat krijg je extra? \n\nNa afloop ontvang je de documentatie.\nJe ontvangt een reeks vervolgmails met exclusieve salestips & tricks om de methode vast te houden.\n\n \nLogistiek \n\nJe registratie is definitief na betaling van de factuur die je per mail ontvangt van Briskr.\nEn een paar dagen voorafgaand aan het webinar ontvang je een Outlook-agendaverzoek met de link naar de sessie. (Check ook je spam!)\n\nMeld je hier aan! \nDit webinar wordt georganiseerd door Briskr\, Connectr en Orion.
URL:https://startupnijmegen.nl/evenement/briskr-uitnodiging-webinar-effectievere-klantgesprekken-ai-in-de-sales/
LOCATION:Online
CATEGORIES:Webinar
ATTACH;FMTTYPE=image/png:https://startupnijmegen.nl/wp-content/uploads/2026/03/FOTO-FORMATS-VOOR-WEBSITE-30.png
END:VEVENT
END:VCALENDAR