BEGIN:VCALENDAR
VERSION:2.0
PRODID:-//StartUp Nijmegen - ECPv6.15.20//NONSGML v1.0//EN
CALSCALE:GREGORIAN
METHOD:PUBLISH
X-ORIGINAL-URL:https://startupnijmegen.nl
X-WR-CALDESC:Evenementen voor StartUp Nijmegen
REFRESH-INTERVAL;VALUE=DURATION:PT1H
X-Robots-Tag:noindex
X-PUBLISHED-TTL:PT1H
BEGIN:VTIMEZONE
TZID:Europe/Amsterdam
BEGIN:DAYLIGHT
TZOFFSETFROM:+0100
TZOFFSETTO:+0200
TZNAME:CEST
DTSTART:20250330T010000
END:DAYLIGHT
BEGIN:STANDARD
TZOFFSETFROM:+0200
TZOFFSETTO:+0100
TZNAME:CET
DTSTART:20251026T010000
END:STANDARD
BEGIN:DAYLIGHT
TZOFFSETFROM:+0100
TZOFFSETTO:+0200
TZNAME:CEST
DTSTART:20260329T010000
END:DAYLIGHT
BEGIN:STANDARD
TZOFFSETFROM:+0200
TZOFFSETTO:+0100
TZNAME:CET
DTSTART:20261025T010000
END:STANDARD
BEGIN:DAYLIGHT
TZOFFSETFROM:+0100
TZOFFSETTO:+0200
TZNAME:CEST
DTSTART:20270328T010000
END:DAYLIGHT
BEGIN:STANDARD
TZOFFSETFROM:+0200
TZOFFSETTO:+0100
TZNAME:CET
DTSTART:20271031T010000
END:STANDARD
END:VTIMEZONE
BEGIN:VEVENT
DTSTART;TZID=Europe/Amsterdam:20260604T170000
DTEND;TZID=Europe/Amsterdam:20260604T220000
DTSTAMP:20260425T030116
CREATED:20260330T100145Z
LAST-MODIFIED:20260330T100309Z
UID:10000435-1780592400-1780610400@startupnijmegen.nl
SUMMARY:StartUp Nijmegen strijdt mee bij Firma Battle 2026!
DESCRIPTION:Op donderdag 4 juni 2026 gaan wij met twee teams de strijd aan tijdens Firma Battle Nijmegen\, hét beachvolleybaltoernooi voor bedrijven! Kom je ons aanmoedigen? \nhttps://www.firmabattle.nl/ \n 
URL:https://startupnijmegen.nl/evenement/startup-nijmegen-strijdt-mee-bij-firma-battle-2026/
LOCATION:Waalkade
ATTACH;FMTTYPE=image/png:https://startupnijmegen.nl/wp-content/uploads/2026/03/FOTO-FORMATS-VOOR-WEBSITE-32.png
ORGANIZER;CN="StartUp Nijmegen":MAILTO:info@startupnijmegen.nl
END:VEVENT
END:VCALENDAR