BEGIN:VCALENDAR
VERSION:2.0
PRODID:-//StartUp Nijmegen - ECPv6.15.20//NONSGML v1.0//EN
CALSCALE:GREGORIAN
METHOD:PUBLISH
X-ORIGINAL-URL:https://startupnijmegen.nl
X-WR-CALDESC:Evenementen voor StartUp Nijmegen
REFRESH-INTERVAL;VALUE=DURATION:PT1H
X-Robots-Tag:noindex
X-PUBLISHED-TTL:PT1H
BEGIN:VTIMEZONE
TZID:Europe/Amsterdam
BEGIN:DAYLIGHT
TZOFFSETFROM:+0100
TZOFFSETTO:+0200
TZNAME:CEST
DTSTART:20250330T010000
END:DAYLIGHT
BEGIN:STANDARD
TZOFFSETFROM:+0200
TZOFFSETTO:+0100
TZNAME:CET
DTSTART:20251026T010000
END:STANDARD
BEGIN:DAYLIGHT
TZOFFSETFROM:+0100
TZOFFSETTO:+0200
TZNAME:CEST
DTSTART:20260329T010000
END:DAYLIGHT
BEGIN:STANDARD
TZOFFSETFROM:+0200
TZOFFSETTO:+0100
TZNAME:CET
DTSTART:20261025T010000
END:STANDARD
BEGIN:DAYLIGHT
TZOFFSETFROM:+0100
TZOFFSETTO:+0200
TZNAME:CEST
DTSTART:20270328T010000
END:DAYLIGHT
BEGIN:STANDARD
TZOFFSETFROM:+0200
TZOFFSETTO:+0100
TZNAME:CET
DTSTART:20271031T010000
END:STANDARD
END:VTIMEZONE
BEGIN:VEVENT
DTSTART;TZID=Europe/Amsterdam:20260521T090000
DTEND;TZID=Europe/Amsterdam:20260521T170000
DTSTAMP:20260425T025425
CREATED:20260330T094649Z
LAST-MODIFIED:20260422T101115Z
UID:10000434-1779354000-1779382800@startupnijmegen.nl
SUMMARY:Sales training door Bram van Teefelen
DESCRIPTION:Op donderdag 21 mei organiseert Bram van Teefelen een 1-daagse sales training bij StartUp Nijmegen aan het Stationsplein 26 in Nijmegen. \nWant eerlijk gezegd: de meeste ondernemers hebben een goed product of dienst maar zodra ze de eerste potentiële klant spreken\, lopen ze vast. Te snel pitchen\, te veel over jezelf praten en vervolgens offerte versturen met al reactie een “NEE”. Of nog erger\, eentje waar je geen antwoord op krijgt. \nEn dat moet echt anders kunnen! \nTijdens deze dag leer je:\n– Hoe je je goed voorbereidt op een eerste gesprek\n– Hoe je structuur en controle houdt op een gesprek. Dit geeft niet alleen houvast maar komt ook professioneel over.\n– Met aandacht en vertrouwen een band opbouwt en gunning creert.\n– Van geforceerd verkopen naar adviserend verkopen\n– Hoe je met bezwaren om gaat en hoe je deze kunt weerleggen\n– Hoe je offertes stuurt waar je wél een antwoord op krijgt\n– Kortom: Meer grip op je sales. Van de eerste kennismaking tot aan de uiteindelijke handtekening. \nEn dat alles gecombineerd met theorie én directe oefening in de praktijk. Inclusief lunch en een afsluitende borrel. \n \nDatum: \n21 mei 2026 \nLocatie:\nStartUp Nijmegen | Stationsplein 26 | 6512 AB Nijmegen \nKosten:\nInvestering: € 395\,00 (StartUp-members krijgen € 100\,- korting\, vrienden van StartUp € 50\,-). \nEr zijn nog 4 plekken beschikbaar\, dus ben er snel bij voordat het vol is! \nHeb je interesse? Neem dan contact op met Bram via 06-83663492 of bram@salesmetbram.nl
URL:https://startupnijmegen.nl/evenement/sales-training-gesprekstechniek/
LOCATION:StartUp Nijmegen\, Stationsplein 26\, Nijmegen\, Gelderland\, 6512 AB\, Netherlands
ATTACH;FMTTYPE=image/png:https://startupnijmegen.nl/wp-content/uploads/2026/03/FOTO-FORMATS-VOOR-WEBSITE-31.png
ORGANIZER;CN="StartUp Nijmegen":MAILTO:info@startupnijmegen.nl
END:VEVENT
END:VCALENDAR