BEGIN:VCALENDAR
VERSION:2.0
PRODID:-//StartUp Nijmegen - ECPv6.15.20//NONSGML v1.0//EN
CALSCALE:GREGORIAN
METHOD:PUBLISH
X-ORIGINAL-URL:https://startupnijmegen.nl
X-WR-CALDESC:Evenementen voor StartUp Nijmegen
REFRESH-INTERVAL;VALUE=DURATION:PT1H
X-Robots-Tag:noindex
X-PUBLISHED-TTL:PT1H
BEGIN:VTIMEZONE
TZID:Europe/Amsterdam
BEGIN:DAYLIGHT
TZOFFSETFROM:+0100
TZOFFSETTO:+0200
TZNAME:CEST
DTSTART:20250330T010000
END:DAYLIGHT
BEGIN:STANDARD
TZOFFSETFROM:+0200
TZOFFSETTO:+0100
TZNAME:CET
DTSTART:20251026T010000
END:STANDARD
BEGIN:DAYLIGHT
TZOFFSETFROM:+0100
TZOFFSETTO:+0200
TZNAME:CEST
DTSTART:20260329T010000
END:DAYLIGHT
BEGIN:STANDARD
TZOFFSETFROM:+0200
TZOFFSETTO:+0100
TZNAME:CET
DTSTART:20261025T010000
END:STANDARD
BEGIN:DAYLIGHT
TZOFFSETFROM:+0100
TZOFFSETTO:+0200
TZNAME:CEST
DTSTART:20270328T010000
END:DAYLIGHT
BEGIN:STANDARD
TZOFFSETFROM:+0200
TZOFFSETTO:+0100
TZNAME:CET
DTSTART:20271031T010000
END:STANDARD
END:VTIMEZONE
BEGIN:VEVENT
DTSTART;TZID=Europe/Amsterdam:20260507T130000
DTEND;TZID=Europe/Amsterdam:20260507T180000
DTSTAMP:20260421T145603
CREATED:20260421T090555Z
LAST-MODIFIED:20260421T090555Z
UID:10000441-1778158800-1778176800@startupnijmegen.nl
SUMMARY:Evenement Lifeport: AI event
DESCRIPTION:Op donderdagmiddag 7 mei opent de binnentuin van Planon in Nijmegen haar deuren voor hét AI-event dat MKB-ondernemers niet mogen missen. \nGeen theorie. Geen verkooppraatjes. Wel concrete cases\, direct toepasbare inzichten en eerlijke antwoorden op jouw vragen van ondernemers\, digital agencies en experts die gewoon om de hoek zitten. \nAlles draait volledig draait om één ding: AI concreet maken voor jouw onderneming. \nVan strategie tot tooling\, van data tot mens: ontdek hoe breed en krachtig AI kan zijn voor jouw organisatie. Stel je eigen programma samen\, kies de sessies die bij jouw vraagstukken passen en laat je verrassen door nieuwe perspectieven. \nHeb je al een concrete vraag of wil je juist de verdieping opzoeken? In de Vraag-maar-raakstraat staan experts klaar om met je mee te denken over jouw onderneming. \nDit is geen dag om alleen te luisteren.\nDit is een dag om te ontdekken\, te ervaren en in beweging te komen\, speciaal voor het MKB in onze regio. \nJe gaat naar huis met nieuwe energie\, frisse ideeën en concrete stappen om zelf aan de slag te gaan met AI. \nKeynote – Robert Meirmans\n\n\nAI is overal. Nieuwe tools\, ontwikkelingen en beloftes vliegen je om de oren. Maar wat betekent dit nu echt voor jouw bedrijf? \nIn zijn keynote neemt Robert Meirmans je mee voorbij de hype. Geen buzzwords\, maar een helder verhaal over wat AI en digitalisering strategisch van je vragen als ondernemer. Waar zit vandaag al waarde? Waar nog niet? En hoe voorkom je dat je achter elke nieuwe ontwikkeling aan blijft lopen? \nAan de hand van herkenbare praktijkvoorbeelden laat Robert zien hoe je AI vertaalt naar concrete keuzes\, prioriteiten en actie. Zodat je niet alleen begrijpt wat er speelt\, maar ook weet wat je morgen anders kunt doen. \nOver Robert\nRobert is ondernemer\, scale-up coach en heeft een rijke achtergrond bij grote internationale bedrijven. Hij weet als geen ander complexe ontwikkelingen te vertalen naar heldere keuzes. \n\nMeld je hier aan!
URL:https://startupnijmegen.nl/evenement/evenement-lifeport-ai-event/
LOCATION:Planon Nijmegen\, Wijchenseweg 8\, Nijmegen\, 6537 TL
CATEGORIES:Workshop
ATTACH;FMTTYPE=image/png:https://startupnijmegen.nl/wp-content/uploads/2026/04/Scherm­afbeelding-2026-04-21-om-11.03.05.png
END:VEVENT
END:VCALENDAR