BEGIN:VCALENDAR
VERSION:2.0
PRODID:-//StartUp Nijmegen - ECPv6.15.20//NONSGML v1.0//EN
CALSCALE:GREGORIAN
METHOD:PUBLISH
X-WR-CALNAME:StartUp Nijmegen
X-ORIGINAL-URL:https://startupnijmegen.nl
X-WR-CALDESC:Evenementen voor StartUp Nijmegen
REFRESH-INTERVAL;VALUE=DURATION:PT1H
X-Robots-Tag:noindex
X-PUBLISHED-TTL:PT1H
BEGIN:VTIMEZONE
TZID:Europe/Amsterdam
BEGIN:DAYLIGHT
TZOFFSETFROM:+0100
TZOFFSETTO:+0200
TZNAME:CEST
DTSTART:20250330T010000
END:DAYLIGHT
BEGIN:STANDARD
TZOFFSETFROM:+0200
TZOFFSETTO:+0100
TZNAME:CET
DTSTART:20251026T010000
END:STANDARD
BEGIN:DAYLIGHT
TZOFFSETFROM:+0100
TZOFFSETTO:+0200
TZNAME:CEST
DTSTART:20260329T010000
END:DAYLIGHT
BEGIN:STANDARD
TZOFFSETFROM:+0200
TZOFFSETTO:+0100
TZNAME:CET
DTSTART:20261025T010000
END:STANDARD
BEGIN:DAYLIGHT
TZOFFSETFROM:+0100
TZOFFSETTO:+0200
TZNAME:CEST
DTSTART:20270328T010000
END:DAYLIGHT
BEGIN:STANDARD
TZOFFSETFROM:+0200
TZOFFSETTO:+0100
TZNAME:CET
DTSTART:20271031T010000
END:STANDARD
END:VTIMEZONE
BEGIN:VEVENT
DTSTART;TZID=Europe/Amsterdam:20260517T120000
DTEND;TZID=Europe/Amsterdam:20260517T170000
DTSTAMP:20260425T025313
CREATED:20260312T094427Z
LAST-MODIFIED:20260423T142205Z
UID:10000428-1779019200-1779037200@startupnijmegen.nl
SUMMARY:Evenement: Testmarkt - Test jouw idee op de Grote Markt in Nijmegen! 💡
DESCRIPTION:Wil jij letterlijk en figuurlijk testen of er markt is voor jouw product of dienst? Dan is de testmarkt dé kans om je onderneming aan een breed publiek te presenteren en te ontdekken of jouw idee de juiste impact maakt! \nOp zondag 17 mei 2026 van 12.00u tot 17.00u vindt de nieuwste editie van de Testmarkt plaats op de iconische Grote Markt in Nijmegen. Samen met de gemeente Nijmegen organiseert StartUp Nijmegen dit evenement\, waarbij startende ondernemers uit de regio hun producten en diensten kunnen testen op een levendig en nieuwsgierig publiek. \nWat kun je verwachten?\nOp de Grote Markt zetten we verschillende marktkramen op\, waar jij jouw innovatieve product of dienst kunt presenteren aan duizenden bezoekers. Deze dag is dé gelegenheid om direct feedback te krijgen van je potentiële klanten door ze je product te laten testen\, voelen\, proeven of ervaren. En het beste van alles? Je krijgt de kans om jouw onderneming letterlijk in de spotlight te zetten en tegelijkertijd je marktpotentieel te ontdekken. \nWat biedt StartUp Nijmegen?\nEen marktkraam op de Grote Markt\, volledig ingericht naar jouw wens om je product of dienst te presenteren; \n\nBereik van 30.000 bezoekers op een gemiddelde zondag in Nijmegen;\nExtra zichtbaarheid voor en na het evenement via onze online kanalen;\nEn praktische zaken zoals stroomvoorziening\, zodat jij je volledig kunt focussen op jouw onderneming.\n\nWaarom meedoen?\nAls jouw onderneming gericht is op innovatie\, duurzaamheid of circulariteit\, is dit hét moment om te testen\, onderzoeken en valideren. Het is de kans om jouw idee direct te toetsen aan het publiek\, reacties te verzamelen en waardevolle feedback te krijgen. \nAanmelden kan via deze link!\n\n\nWe kijken ernaar uit om jouw inschrijving te ontvangen en samen te werken aan een inspirerende en succesvolle editie van de Testmarkt! \n\nLet op: deze markt is uitsluitend bedoeld voor testen. Het verkopen van producten is niet toegestaan.
URL:https://startupnijmegen.nl/evenement/evenement-testmarkt-test-jouw-idee-op-de-grote-markt-in-nijmegen-%f0%9f%92%a1/
LOCATION:De Grote Markt\, Nijmegen
CATEGORIES:Externe activiteiten voor ondernemers
ATTACH;FMTTYPE=image/png:https://startupnijmegen.nl/wp-content/uploads/2026/03/FOTO-FORMATS-VOOR-WEBSITE-26.png
ORGANIZER;CN="StartUp Nijmegen":MAILTO:info@startupnijmegen.nl
END:VEVENT
END:VCALENDAR