BEGIN:VCALENDAR
VERSION:2.0
PRODID:-//StartUp Nijmegen - ECPv6.15.20//NONSGML v1.0//EN
CALSCALE:GREGORIAN
METHOD:PUBLISH
X-WR-CALNAME:StartUp Nijmegen
X-ORIGINAL-URL:https://startupnijmegen.nl
X-WR-CALDESC:Evenementen voor StartUp Nijmegen
REFRESH-INTERVAL;VALUE=DURATION:PT1H
X-Robots-Tag:noindex
X-PUBLISHED-TTL:PT1H
BEGIN:VTIMEZONE
TZID:Europe/Amsterdam
BEGIN:DAYLIGHT
TZOFFSETFROM:+0100
TZOFFSETTO:+0200
TZNAME:CEST
DTSTART:20230326T010000
END:DAYLIGHT
BEGIN:STANDARD
TZOFFSETFROM:+0200
TZOFFSETTO:+0100
TZNAME:CET
DTSTART:20231029T010000
END:STANDARD
BEGIN:DAYLIGHT
TZOFFSETFROM:+0100
TZOFFSETTO:+0200
TZNAME:CEST
DTSTART:20240331T010000
END:DAYLIGHT
BEGIN:STANDARD
TZOFFSETFROM:+0200
TZOFFSETTO:+0100
TZNAME:CET
DTSTART:20241027T010000
END:STANDARD
BEGIN:DAYLIGHT
TZOFFSETFROM:+0100
TZOFFSETTO:+0200
TZNAME:CEST
DTSTART:20250330T010000
END:DAYLIGHT
BEGIN:STANDARD
TZOFFSETFROM:+0200
TZOFFSETTO:+0100
TZNAME:CET
DTSTART:20251026T010000
END:STANDARD
END:VTIMEZONE
BEGIN:VEVENT
DTSTART;TZID=Europe/Amsterdam:20240528T083000
DTEND;TZID=Europe/Amsterdam:20240528T100000
DTSTAMP:20260421T154104
CREATED:20240501T114514Z
LAST-MODIFIED:20240501T114514Z
UID:13574-1716885000-1716890400@startupnijmegen.nl
SUMMARY:Workshop: Mindset verandering om doelen te behalen
DESCRIPTION:Over de workshop \nAls ondernemer moet je niet alleen werkeen in je bedrijf maar ook áán je bedrijf. Hierin de juiste balans vinden in hoeverre je wanneer tijd besteed aan het een en het ander. Schalen met je bedrijf en naar doelen werken die je voor jezelf hebt gesteld kan hierdoor meer achterblijven dan je zelf had gewild. Zie je dat er meer te behalen is met je bedrijf\, maar loop je vast? Of denk jij dat je op volle kracht vooruit gaat en dat er geen verbetering meer is te behalen? \nEen risico voor ondernemers is het vallen in vaste patronen en denkwijze\, waardoor je jezelf niet meer uitdaagt om kritisch te zijn. Wellicht werk je al een lange tijd binnen een vaste routine en heb je de aanname gecreëerd dat dit is wat nodig is om van je bedrijf een succes te maken. Maar\, je kan probleem niet oplossen als je het probleem niet ziet. Door je vaste patronen uit te dagen geef je jezelf de ruimte om kritisch te zijn\, problemen te identificeren en analyseren\, en een doeltreffende oplossing kiezen. \nTijden deze workshop behandelen we de impact die je mindset heeft op je resultaten als ondernemer. Tijdens deze workshop zullen er praktische tools besproken worden die jij kan gebruiken om jouw manier van denken uit te dagen of te veranderen. Stap uit je routine denken en neem creatieve beslissingen die in overeenstemming zijn met je bedrijfsdoelstellingen. \nTijdens deze workshop leer je: \n\nHoe je mindset je visie kan veranderen\nHoe jouw vaste routinedenken de keuzes als ondernemer beïnvloed\nHoe je eerlijk kan reflecteren op jezelf\nWaar je commitments liggen\n\nOver de workshophouder: Lawrence Paintsil\nVanuit zijn passie voor sporten\, ontstaan op jonge leeftijd door het spelen van professioneel basketbal\, heeft Lawrence twee sportscholen succesvol opgezet en gerund. Inmiddels heeft hij zijn gyms verkocht en past hij zijn sterke sportmentaliteit toe om ondernemers te helpen met winnen in hun persoonlijke\, zakelijke en fysieke leven binnen zijn bedrijf Leadershift Acadamy. Lawrence is daarnaast vader van vier kids en geniet samen met zijn partner veel van de tijd die hij besteedt met zijn gezin. \nDatum:\n28 mei 2024 \nTijd:\nInloop: 08:15 uur\nStart: 08:30 uur\nEinde: 10:00 uur \nLocatie:\nStartUp Nijmegen\nStationsplein 26\n6512AB Nijmegen \nHet volgen van de workshop is volledig gratis\, voor iedereen. Dus ook voor (startende) ondernemers die niet aangesloten zijn bij StartUp. Wil je als student van het ROC\, HAN of RU meedoen? Vermeld dan onder het kopje “organisatie” jouw opleiding. \nBij afmeldingen korter dan 24u van tevoren brengen we echter tien euro (ex. btw) in rekening.
URL:https://startupnijmegen.nl/evenement/workshop-mindset-verandering-om-doelen-te-behalen/
LOCATION:StartUp Nijmegen\, Stationsplein 26\, Nijmegen\, 6512AB\, Nederland
CATEGORIES:Workshop
ATTACH;FMTTYPE=image/jpeg:https://startupnijmegen.nl/wp-content/uploads/2024/04/Lawrence.jpg
ORGANIZER;CN="StartUp Nijmegen":MAILTO:info@startupnijmegen.nl
END:VEVENT
END:VCALENDAR