BEGIN:VCALENDAR
VERSION:2.0
PRODID:-//StartUp Nijmegen - ECPv6.15.20//NONSGML v1.0//EN
CALSCALE:GREGORIAN
METHOD:PUBLISH
X-WR-CALNAME:StartUp Nijmegen
X-ORIGINAL-URL:https://startupnijmegen.nl
X-WR-CALDESC:Evenementen voor StartUp Nijmegen
REFRESH-INTERVAL;VALUE=DURATION:PT1H
X-Robots-Tag:noindex
X-PUBLISHED-TTL:PT1H
BEGIN:VTIMEZONE
TZID:Europe/Amsterdam
BEGIN:DAYLIGHT
TZOFFSETFROM:+0100
TZOFFSETTO:+0200
TZNAME:CEST
DTSTART:20230326T010000
END:DAYLIGHT
BEGIN:STANDARD
TZOFFSETFROM:+0200
TZOFFSETTO:+0100
TZNAME:CET
DTSTART:20231029T010000
END:STANDARD
BEGIN:DAYLIGHT
TZOFFSETFROM:+0100
TZOFFSETTO:+0200
TZNAME:CEST
DTSTART:20240331T010000
END:DAYLIGHT
BEGIN:STANDARD
TZOFFSETFROM:+0200
TZOFFSETTO:+0100
TZNAME:CET
DTSTART:20241027T010000
END:STANDARD
BEGIN:DAYLIGHT
TZOFFSETFROM:+0100
TZOFFSETTO:+0200
TZNAME:CEST
DTSTART:20250330T010000
END:DAYLIGHT
BEGIN:STANDARD
TZOFFSETFROM:+0200
TZOFFSETTO:+0100
TZNAME:CET
DTSTART:20251026T010000
END:STANDARD
END:VTIMEZONE
BEGIN:VEVENT
DTSTART;TZID=Europe/Amsterdam:20241030T170000
DTEND;TZID=Europe/Amsterdam:20241030T190000
DTSTAMP:20260419T224014
CREATED:20240904T133838Z
LAST-MODIFIED:20240904T133838Z
UID:14818-1730307600-1730314800@startupnijmegen.nl
SUMMARY:Workshop: Je webwinkel opschalen in het laatste kwartaal
DESCRIPTION:Black friday\, sinterklaas\, kerst en de feestdagen. Je wil als webwinkel hier je slag slaan. Hoe zorg je ervoor dat je in het laatste kwartaal een feest maand hebt in plaats van een teleurstelling? \nIn deze workshop nemen we je mee in de wereld van Meta- en Google ads. Waar we onze meest waardevolle takeaways zullen delen met je zodat je dit laatste kwartaal met jouw webshop nog meer omzet kan gaan draaien! De tips zijn praktisch\, en allemaal op basis van onze ads strategieën waar we ruim 25+ webshops mee hebben opgeschaald dit jaar. Zo hebben we alleen al dit jaar meer dan €1\,5 miljoen euro omgezet voor klanten! \nDus ben je op zoek naar: \n\nMeer omzet in het laatste kwartaal met je webshop?\nOptimalisatie van jouw advertentie strategie?\nNetwerken met andere E-commerce ondernemers?\n\nDan is deze workshop echt wat voor jou! Meld je aan via de link hieronder en dan gaan we samen 30 oktober aan de slag! We starten de workshop om 17.00 uur waarin Rik\, Jip en de gastsprekers Jelle en Willem je meenemen in de wereld van Meta- en Google ads. Om in contact te komen met de mede deelnemers en collega-ondernemers\, sluiten we af met een gezamenlijke netwerkborrel. \nOver de workshophouder: Rik Peters en Jip Huis in ’t Veld van Innomarca.\nDe workshop wordt gegeven door Rik en Jip van het Nijmeegse online marketingbureau Innomarca. Waar drie ondernemers ooit begonnen in een studieruimte van de HAN zijn zij vandaag de dag bezig met de Nederlandse markt veroveren. Met een team van experts helpen ze ambitieuze ondernemers bouwen aan winstgevende online kanalen. Niet door gouden bergen te beloven maar juist met\ndata en transparantie de juiste doelen te stellen. Omdat ze geloven in het delen van kennis en waarde voor ondernemers houden we deze kennis sessie. Niet alleen om mooie praatjes te houden\, maar om kennis te onderbouwen met data! \n\nDatum:\n30 oktober 2024 \nTijd:\nInloop: 16:45 uur\nStart: 17:00 uur\nNetwerk moment: 18:30 uur \nLocatie:\nStartUp Nijmegen\nStationsplein 26\n6512 AB Nijmegen \nHet volgen van de workshop is volledig gratis\, voor iedereen. Dus ook voor (startende) ondernemers die niet aangesloten zijn bij StartUp. Wil je als student van het ROC\, HAN of RU meedoen? Vermeld dan onder het kopje “organisatie” jouw opleiding. \nBij afmeldingen korter dan 24u van tevoren brengen we echter tien euro (ex. btw) in rekening.
URL:https://startupnijmegen.nl/evenement/workshop-je-webwinkel-opschalen-in-het-laatste-kwartaal/
LOCATION:StartUp Nijmegen: Ruimte De Vereeniging\, Stationsplein 26\, Nijmegen\, 6512 AB
CATEGORIES:Algemeen
ATTACH;FMTTYPE=image/jpeg:https://startupnijmegen.nl/wp-content/uploads/2024/09/Innomarca-by-IsabellaVerduyn-33-1.jpg
ORGANIZER;CN="Jan van Raaij":MAILTO:jan@startupnijmegen.nl
END:VEVENT
END:VCALENDAR