BEGIN:VCALENDAR
VERSION:2.0
PRODID:-//StartUp Nijmegen - ECPv6.15.20//NONSGML v1.0//EN
CALSCALE:GREGORIAN
METHOD:PUBLISH
X-WR-CALNAME:StartUp Nijmegen
X-ORIGINAL-URL:https://startupnijmegen.nl
X-WR-CALDESC:Evenementen voor StartUp Nijmegen
REFRESH-INTERVAL;VALUE=DURATION:PT1H
X-Robots-Tag:noindex
X-PUBLISHED-TTL:PT1H
BEGIN:VTIMEZONE
TZID:Europe/Amsterdam
BEGIN:DAYLIGHT
TZOFFSETFROM:+0100
TZOFFSETTO:+0200
TZNAME:CEST
DTSTART:20230326T010000
END:DAYLIGHT
BEGIN:STANDARD
TZOFFSETFROM:+0200
TZOFFSETTO:+0100
TZNAME:CET
DTSTART:20231029T010000
END:STANDARD
BEGIN:DAYLIGHT
TZOFFSETFROM:+0100
TZOFFSETTO:+0200
TZNAME:CEST
DTSTART:20240331T010000
END:DAYLIGHT
BEGIN:STANDARD
TZOFFSETFROM:+0200
TZOFFSETTO:+0100
TZNAME:CET
DTSTART:20241027T010000
END:STANDARD
BEGIN:DAYLIGHT
TZOFFSETFROM:+0100
TZOFFSETTO:+0200
TZNAME:CEST
DTSTART:20250330T010000
END:DAYLIGHT
BEGIN:STANDARD
TZOFFSETFROM:+0200
TZOFFSETTO:+0100
TZNAME:CET
DTSTART:20251026T010000
END:STANDARD
END:VTIMEZONE
BEGIN:VEVENT
DTSTART;TZID=Europe/Amsterdam:20240910T090000
DTEND;TZID=Europe/Amsterdam:20240910T170000
DTSTAMP:20260426T041657
CREATED:20240718T134529Z
LAST-MODIFIED:20240718T134529Z
UID:13175-1725958800-1725987600@startupnijmegen.nl
SUMMARY:Startersprogramma Businessbooster HAN CvO
DESCRIPTION:Een eigen bedrijf hebben is een droom maar kan ook eenzaam zijn. Je mist collega’s om mee te sparren en om nieuwe informatie mee te delen. In het nieuwe startersprogramma BusinessBooster ontmoet je jonge collega-ondernemers\, inspireer je elkaar en doe je kennis en vaardigheden op rondom ondernemerschap. Deze community geeft nieuwe energie! \nWAT IS HET?\nEen halfjaarlijks programma voor studentondernemers met een (gevalideerd) business idee om met gelijkgestemde elkaar te versterken op inhoud\, kennis en ervaringen te delen mét als doel de eigen business een boost te geven. \nVOOR WIE?\n\nStudenten en alumni van de HAN\, ArtEZ\, Van Hall Larenstein\, Radboud Universiteit en Saxion.\nMaximaal 3 jaar afgestudeerd.\nImpact in Gelderland.\nInnovatieve en niet-innovatieve ondernemers.\nVoorkeur voor gevalideerd business idee of inschrijving Kamer van Koophandel.\n\nHOE WERKT HET?\nKenmerken \n\nEen groep van 10 – 15 (student-)ondernemers.\n8 bijeenkomsten gedurende 4 maanden.\nSamen leren\, elkaar versterken op inhoud en ervaringen delen.\nProfessionele begeleiding en maatwerk.\n\nCriteria \n\nJe hebt een business(idee) met marktpotentie en impact.\nAmbitie om zelf te groeien en je bedrijf op te schalen vind je belangrijk.\nLeren van en met elkaar staat voorop.\n\nAANMELDEN?\nHet programma start op dinsdag 24 september 2024 en de laatste bijeenkomst is op 21 januari 2025. Inschrijven kan tot 10 september 2024. \nVoor meer informatie en aanmelden: stuur een mailtje naar cvo@han.nl of plan zelf je afspraak via ons bookingsprogramma. \nCheck hier de flyer:  ORION-BusinessBooster2024-6 .
URL:https://startupnijmegen.nl/evenement/startersprogramma-businessbooster-han-cvo/
CATEGORIES:Externe activiteiten voor ondernemers
ATTACH;FMTTYPE=application/pdf:https://startupnijmegen.nl/wp-content/uploads/2024/07/66718e8a5c3a8_contour-vormen-gf_300x80_3_1-1.pdf
END:VEVENT
END:VCALENDAR