BEGIN:VCALENDAR
VERSION:2.0
PRODID:-//StartUp Nijmegen - ECPv6.15.20//NONSGML v1.0//EN
CALSCALE:GREGORIAN
METHOD:PUBLISH
X-WR-CALNAME:StartUp Nijmegen
X-ORIGINAL-URL:https://startupnijmegen.nl
X-WR-CALDESC:Evenementen voor StartUp Nijmegen
REFRESH-INTERVAL;VALUE=DURATION:PT1H
X-Robots-Tag:noindex
X-PUBLISHED-TTL:PT1H
BEGIN:VTIMEZONE
TZID:Europe/Amsterdam
BEGIN:DAYLIGHT
TZOFFSETFROM:+0100
TZOFFSETTO:+0200
TZNAME:CEST
DTSTART:20250330T010000
END:DAYLIGHT
BEGIN:STANDARD
TZOFFSETFROM:+0200
TZOFFSETTO:+0100
TZNAME:CET
DTSTART:20251026T010000
END:STANDARD
BEGIN:DAYLIGHT
TZOFFSETFROM:+0100
TZOFFSETTO:+0200
TZNAME:CEST
DTSTART:20260329T010000
END:DAYLIGHT
BEGIN:STANDARD
TZOFFSETFROM:+0200
TZOFFSETTO:+0100
TZNAME:CET
DTSTART:20261025T010000
END:STANDARD
BEGIN:DAYLIGHT
TZOFFSETFROM:+0100
TZOFFSETTO:+0200
TZNAME:CEST
DTSTART:20270328T010000
END:DAYLIGHT
BEGIN:STANDARD
TZOFFSETFROM:+0200
TZOFFSETTO:+0100
TZNAME:CET
DTSTART:20271031T010000
END:STANDARD
END:VTIMEZONE
BEGIN:VEVENT
DTSTART;TZID=Europe/Amsterdam:20260622T000000
DTEND;TZID=Europe/Amsterdam:20260622T000000
DTSTAMP:20260422T224217
CREATED:20260422T093833Z
LAST-MODIFIED:20260422T094006Z
UID:34990-1782086400-1782086400@startupnijmegen.nl
SUMMARY:The Launch: Radboud Summer School: Starting Your Own Business
DESCRIPTION:This Summer School course is an intensive\, hands-on program for aspiring entrepreneurs ready to launch their (tech) business. Participants bring their ideas and apply the lessons directly to their projects. \nKey topics include understanding the realities of entrepreneurship\, identifying personal strengths and weaknesses\, and learning how to build and sustain effective teams. The program helps participants identify and segment their customer base\, understand customer needs\, and align their products or services with real-world problems. \nParticipants gain expertise in the lean startup method\, learning how to create Minimum Viable Products (MVPs)\, validate ideas\, pilot solutions\, and pivot when necessary. Additional focus areas include creating products customers love\, competitive analysis\, protecting intellectual property\, and scaling production. \nBusiness strategies are covered in-depth\, including crafting a Business Model Canvas\, assessing market opportunities\, defining USPs\, and building a go-to-market strategy. Participants also learn to gain visibility through marketing and social media\, deliver compelling pitches\, and secure funding through seed investments or crowdfunding. \nThe program features one-on-one mentoring\, a pitch competition\, and the development of a professional pitch deck. Graduates leave with practical tools\, actionable insights\, and a Mercator Launch startup certificate to help drive their business forward. \nLearning objectives\nIn this course you will: \n\nFind out whether an entrepreneurial career is suited for you\nDiscover your own entrepreneurial skills\, talent and ambition\nCreate and fine-tune a solid business Pitch Deck\n\nSign up here!
URL:https://startupnijmegen.nl/evenement/radboud-university-summer-school-starting-your-own-business/
ATTACH;FMTTYPE=image/png:https://startupnijmegen.nl/wp-content/uploads/2026/04/FOTO-FORMATS-VOOR-WEBSITE-41.png
END:VEVENT
END:VCALENDAR