BEGIN:VCALENDAR
VERSION:2.0
PRODID:-//StartUp Nijmegen - ECPv6.15.20//NONSGML v1.0//EN
CALSCALE:GREGORIAN
METHOD:PUBLISH
X-WR-CALNAME:StartUp Nijmegen
X-ORIGINAL-URL:https://startupnijmegen.nl
X-WR-CALDESC:Evenementen voor StartUp Nijmegen
REFRESH-INTERVAL;VALUE=DURATION:PT1H
X-Robots-Tag:noindex
X-PUBLISHED-TTL:PT1H
BEGIN:VTIMEZONE
TZID:Europe/Amsterdam
BEGIN:DAYLIGHT
TZOFFSETFROM:+0100
TZOFFSETTO:+0200
TZNAME:CEST
DTSTART:20240331T010000
END:DAYLIGHT
BEGIN:STANDARD
TZOFFSETFROM:+0200
TZOFFSETTO:+0100
TZNAME:CET
DTSTART:20241027T010000
END:STANDARD
BEGIN:DAYLIGHT
TZOFFSETFROM:+0100
TZOFFSETTO:+0200
TZNAME:CEST
DTSTART:20250330T010000
END:DAYLIGHT
BEGIN:STANDARD
TZOFFSETFROM:+0200
TZOFFSETTO:+0100
TZNAME:CET
DTSTART:20251026T010000
END:STANDARD
BEGIN:DAYLIGHT
TZOFFSETFROM:+0100
TZOFFSETTO:+0200
TZNAME:CEST
DTSTART:20260329T010000
END:DAYLIGHT
BEGIN:STANDARD
TZOFFSETFROM:+0200
TZOFFSETTO:+0100
TZNAME:CET
DTSTART:20261025T010000
END:STANDARD
END:VTIMEZONE
BEGIN:VEVENT
DTSTART;TZID=Europe/Amsterdam:20250417T140000
DTEND;TZID=Europe/Amsterdam:20250417T170000
DTSTAMP:20260421T155716
CREATED:20250203T155119Z
LAST-MODIFIED:20250203T155119Z
UID:28834-1744898400-1744909200@startupnijmegen.nl
SUMMARY:Briskr workshop: Succesvolle samenwerking tussen startups en bedrijven opbouwen
DESCRIPTION:Bedrijven en startups hebben elkaar nodig om te innoveren en te versnellen op nieuwe zakelijke gebieden\, maar het overbruggen van de kloof tussen hun verschillende werelden is vaak een uitdaging. Deze interactieve workshop verkent de belangrijkste succesfactoren voor effectieve samenwerkingen en biedt praktische inzichten en hulpmiddelen om beide partijen te helpen samen succesvol te zijn. \nOnderwerpen \n\nWaarom startups en bedrijven elkaar nodig hebben: wederzijdse voordelen en kansen.\nDe kloof begrijpen: verschillen in cultuur\, doelen en verwachtingen.\nSoorten samenwerkingen en wanneer ze te gebruiken.\nKritische succesfactoren voor succes op lange termijn.\nTools en meetmethoden om het succes van samenwerking te meten.\nBest practices en praktijkvoorbeelden van partnerschappen tussen startups en bedrijven.\n\nAlgemeen directeur Corina Kuiper \nCorina Kuiper heeft meer dan 25 jaar ervaring in strategisch management\, bedrijfsontwikkeling en innovatie in zowel corporate als startup/scale-up omgevingen. Doordat ze in verschillende sectoren heeft gewerkt\, waaronder de gezondheidszorg\, en in verschillende rollen\, begrijpt ze de unieke perspectieven en uitdagingen van zowel startups als gevestigde bedrijven. Als Managing Director van het Corporate Venturing Network (CVN) verbindt ze bedrijven en ecosysteemspelers in open innovatie. Via haar bedrijf\, Innovation Family\, ondersteunt ze organisaties bij corporate venturing en het opzetten van nieuwe bedrijven\, waarbij ze bewezen innovatiemodellen toepast. Ze is ook co-auteur van het boek Corporate Venturing: Managing the Innovation Family. Ze deelt haar expertise regelmatig als gastdocent aan universiteiten en business schools en treedt op als adviseur voor meerdere bedrijven. \nLocatie\nNoviotech Campus\, Transistorweg 5\, Gebouw M\, Meet&Greet\, Nijmegen. \nGoed om te weten\nDe workshop wordt gegeven in het Engels en is gratis. \nDeelname aan de workshop is gratis voor iedereen\, inclusief drankjes en hapjes. Voor annuleringen binnen 24 uur voorafgaand aan het evenement brengen we echter 15 euro (exclusief btw) in rekening om gemaakte kosten te dekken.
URL:https://startupnijmegen.nl/evenement/klaar-om-samen-te-werken-succesvolle-samenwerking-tussen-startups-en-bedrijven-opbouwen/
LOCATION:Noviotech Campus\, Transistorweg 5\, Building M\, Meet&Greet\, Nijmegen\, Noviotech Campus\, Transistorweg 5\, Building M\, Meet&Greet\, Nijmegen\, Nijmegen\, 6534 AT\, Nederland
CATEGORIES:Externe activiteiten voor ondernemers
END:VEVENT
END:VCALENDAR