BEGIN:VCALENDAR
VERSION:2.0
PRODID:-//StartUp Nijmegen - ECPv6.15.20//NONSGML v1.0//EN
CALSCALE:GREGORIAN
METHOD:PUBLISH
X-WR-CALNAME:StartUp Nijmegen
X-ORIGINAL-URL:https://startupnijmegen.nl
X-WR-CALDESC:Evenementen voor StartUp Nijmegen
REFRESH-INTERVAL;VALUE=DURATION:PT1H
X-Robots-Tag:noindex
X-PUBLISHED-TTL:PT1H
BEGIN:VTIMEZONE
TZID:Europe/Amsterdam
BEGIN:DAYLIGHT
TZOFFSETFROM:+0100
TZOFFSETTO:+0200
TZNAME:CEST
DTSTART:20240331T010000
END:DAYLIGHT
BEGIN:STANDARD
TZOFFSETFROM:+0200
TZOFFSETTO:+0100
TZNAME:CET
DTSTART:20241027T010000
END:STANDARD
BEGIN:DAYLIGHT
TZOFFSETFROM:+0100
TZOFFSETTO:+0200
TZNAME:CEST
DTSTART:20250330T010000
END:DAYLIGHT
BEGIN:STANDARD
TZOFFSETFROM:+0200
TZOFFSETTO:+0100
TZNAME:CET
DTSTART:20251026T010000
END:STANDARD
BEGIN:DAYLIGHT
TZOFFSETFROM:+0100
TZOFFSETTO:+0200
TZNAME:CEST
DTSTART:20260329T010000
END:DAYLIGHT
BEGIN:STANDARD
TZOFFSETFROM:+0200
TZOFFSETTO:+0100
TZNAME:CET
DTSTART:20261025T010000
END:STANDARD
END:VTIMEZONE
BEGIN:VEVENT
DTSTART;TZID=Europe/Amsterdam:20251125T180000
DTEND;TZID=Europe/Amsterdam:20251125T210000
DTSTAMP:20260424T012928
CREATED:20251027T155717Z
LAST-MODIFIED:20251119T105446Z
UID:32941-1764093600-1764104400@startupnijmegen.nl
SUMMARY:Evenement: FuckUp Night
DESCRIPTION:Falen is de snelste weg naar succes 🚀\nIedereen wil graag succesvol zijn\, maar bijna niemand vertelt hoe vaak ze onderweg onderuit zijn gegaan. Tijdens FuckUp Night gooien we het roer om: we vieren juist de mislukkingen die aan de basis stonden van grootse ideeën\, sterke bedrijven en persoonlijke groei. \nOp 25 november delen vier jonge\, succesvolle ondernemers hun grootste fuck-up: één verhaal\, één moment waarop alles misging. Geen gladde succesverhalen\, maar eerlijke\, rauwe en vaak hilarische ervaringen die laten zien dat je juist door te falen verder komt. \nDeze editie zijn de sprekers: \n\n\nTycho Jacobs (Harbor Gym) \n\n\nRobbert den Boer (ROSH Studios) \n\n\nRuud Bos (Subcultuur) \n\n\nJens van de Noort (Customer Happiness Team) \n\n\nVerwacht een avond vol echtheid\, humor en lef\, met inspirerende verhalen die je eraan herinneren dat fouten geen eindpunt zijn\, maar een opstap naar iets beters. \nOf je nu ondernemer\, student of gewoon nieuwsgierig bent\, deze avond wil je niet missen. Ben jij erbij? Reserveer snel je gratis ticket\, dan zien we je daar! \nDatum:\n25 november \nTijd:\nInloop 17:45 uur | Start 18:00 uur | Borrel 19:45 uur \nLocatie:\nHAN | Kapittelweg 33 | 6525 EN Nijmegen
URL:https://startupnijmegen.nl/evenement/evenement-fuckup-night-2/
LOCATION:Hogeschool Arnhem Nijmegen\, Kapittelweg 33\, Nijmegen\, 6525 EN\, Netherlands
CATEGORIES:Externe activiteiten voor ondernemers
ATTACH;FMTTYPE=image/png:https://startupnijmegen.nl/wp-content/uploads/2025/10/FOTO-FORMATS-VOOR-WEBSITE-6.png
ORGANIZER;CN="StartUp Nijmegen":MAILTO:info@startupnijmegen.nl
END:VEVENT
END:VCALENDAR