BEGIN:VCALENDAR
VERSION:2.0
PRODID:-//StartUp Nijmegen - ECPv6.15.20//NONSGML v1.0//EN
CALSCALE:GREGORIAN
METHOD:PUBLISH
X-WR-CALNAME:StartUp Nijmegen
X-ORIGINAL-URL:https://startupnijmegen.nl
X-WR-CALDESC:Evenementen voor StartUp Nijmegen
REFRESH-INTERVAL;VALUE=DURATION:PT1H
X-Robots-Tag:noindex
X-PUBLISHED-TTL:PT1H
BEGIN:VTIMEZONE
TZID:Europe/Amsterdam
BEGIN:DAYLIGHT
TZOFFSETFROM:+0100
TZOFFSETTO:+0200
TZNAME:CEST
DTSTART:20240331T010000
END:DAYLIGHT
BEGIN:STANDARD
TZOFFSETFROM:+0200
TZOFFSETTO:+0100
TZNAME:CET
DTSTART:20241027T010000
END:STANDARD
BEGIN:DAYLIGHT
TZOFFSETFROM:+0100
TZOFFSETTO:+0200
TZNAME:CEST
DTSTART:20250330T010000
END:DAYLIGHT
BEGIN:STANDARD
TZOFFSETFROM:+0200
TZOFFSETTO:+0100
TZNAME:CET
DTSTART:20251026T010000
END:STANDARD
BEGIN:DAYLIGHT
TZOFFSETFROM:+0100
TZOFFSETTO:+0200
TZNAME:CEST
DTSTART:20260329T010000
END:DAYLIGHT
BEGIN:STANDARD
TZOFFSETFROM:+0200
TZOFFSETTO:+0100
TZNAME:CET
DTSTART:20261025T010000
END:STANDARD
END:VTIMEZONE
BEGIN:VEVENT
DTSTART;TZID=Europe/Amsterdam:20250218T143000
DTEND;TZID=Europe/Amsterdam:20250218T170000
DTSTAMP:20260421T155932
CREATED:20250203T150902Z
LAST-MODIFIED:20250203T150902Z
UID:28824-1739889000-1739898000@startupnijmegen.nl
SUMMARY:Briskr workshop: Effectieve promptten met o.a. ChatGPT
DESCRIPTION:De sleutel tot succes in het bruikbaar inzetten van AI tools zoals ChatGPT is kwalitatief goed kunnen prompten. In deze interactieve workshop neemt Daphne je mee in alle ins en outs\, (on)mogelijkheden en kansen van effectieve prompten en ga je zelf aan de slag. \nOnderwerpen die aan bod komen: \n\nBasisprincipes van prompten: inhoud\, structuur\, werkwijze enz.\nHoe werken LLM’s (grote taalmodellen)\nPro-tips: parameters\, schrijfstijl\, aangepaste GPT’s enz.\nAan de slag!\n\nSpreker: Daphne Hachmang\, Hogeschool Arnhem Nijmegen (HAN)\, onderzoeker en docent.\nDaphne onderzoekt hoe organisaties effectief kunnen communiceren met hun doelgroep(en). De focus in haar onderzoeksprojecten ligt daarbij op content (met AI) en doelgroep inzicht. Naast onderzoeker is Daphne docent bij de opleiding Communicatie. \nLocatie: Meet&Greet in Gebouw M\, Noviotech Campus Nijmegen. Transistorweg 5. \nBelangrijk: Deelnemers nemen een eigen laptop mee. Deelnemers hebben zelf al een (gratis) account voor ChatGPT.
URL:https://startupnijmegen.nl/evenement/effectieve-promptten-met-o-a-chatgpt/
LOCATION:Noviotech Campus\, Transistorweg 5\, Building M\, Meet&Greet\, Nijmegen\, Noviotech Campus\, Transistorweg 5\, Building M\, Meet&Greet\, Nijmegen\, Nijmegen\, 6534 AT\, Nederland
CATEGORIES:Externe activiteiten voor ondernemers
END:VEVENT
END:VCALENDAR