BEGIN:VCALENDAR
VERSION:2.0
PRODID:-//StartUp Nijmegen - ECPv6.15.20//NONSGML v1.0//EN
CALSCALE:GREGORIAN
METHOD:PUBLISH
X-WR-CALNAME:StartUp Nijmegen
X-ORIGINAL-URL:https://startupnijmegen.nl
X-WR-CALDESC:Evenementen voor StartUp Nijmegen
REFRESH-INTERVAL;VALUE=DURATION:PT1H
X-Robots-Tag:noindex
X-PUBLISHED-TTL:PT1H
BEGIN:VTIMEZONE
TZID:Europe/Amsterdam
BEGIN:DAYLIGHT
TZOFFSETFROM:+0100
TZOFFSETTO:+0200
TZNAME:CEST
DTSTART:20180325T010000
END:DAYLIGHT
BEGIN:STANDARD
TZOFFSETFROM:+0200
TZOFFSETTO:+0100
TZNAME:CET
DTSTART:20181028T010000
END:STANDARD
BEGIN:DAYLIGHT
TZOFFSETFROM:+0100
TZOFFSETTO:+0200
TZNAME:CEST
DTSTART:20190331T010000
END:DAYLIGHT
BEGIN:STANDARD
TZOFFSETFROM:+0200
TZOFFSETTO:+0100
TZNAME:CET
DTSTART:20191027T010000
END:STANDARD
BEGIN:DAYLIGHT
TZOFFSETFROM:+0100
TZOFFSETTO:+0200
TZNAME:CEST
DTSTART:20200329T010000
END:DAYLIGHT
BEGIN:STANDARD
TZOFFSETFROM:+0200
TZOFFSETTO:+0100
TZNAME:CET
DTSTART:20201025T010000
END:STANDARD
END:VTIMEZONE
BEGIN:VEVENT
DTSTART;TZID=Europe/Amsterdam:20191210T170000
DTEND;TZID=Europe/Amsterdam:20191210T183000
DTSTAMP:20260420T015656
CREATED:20191126T100627Z
LAST-MODIFIED:20191126T100627Z
UID:13645-1575997200-1576002600@startupnijmegen.nl
SUMMARY:College Tour
DESCRIPTION:STARTUP NIJMEGEN GOES ON COLLEGE TOUR\nVoor startende ondernemers door ervaren ondernemers! College Tour is een terugkerend evenement georganiseerd door StartUp Nijmegen. Het concept is geïnspireerd op de Collegetour met Twan Huys. \nDe presentator van deze avond is Jacqueline van Ginneken journalist van de Gelderlander. Zij stelt aan Ton van Stokkum vragen over zijn eigen ervaringen als ondernemer. De aanwezige startende ondernemers krijgen de gelegenheid om aan Ton van Stokkum vragen te stellen. Presentator Jacqueline zal dit coördineren. Na afloop drinken we een borrel! \n  \nDatum:   10 december 2019\, 17:00 uur\nLocatie:  Startup Nijmegen\, Stationsplein 26\, Nijmegen \nPresentator: Jacqueline van Ginneken\nJournaliste van de Gelderlander. \n  \nGastspreker: Ton van Stokkum\nTon van Stokkum (82) is jarenlang actief geweest in de automotive branche en heeft veel verschillende bestuurs- en voorzitters functies uitgeoefend. Ton is een ervaren directeur\, voorzitter en adviseur waar zowel startende als ervaren ondernemers veel van kunnen leren. \nTussen 1980 tot en met 1994 heeft Ton van Stokkum bij Van den Bosch en Jansen de functie van algemeen directeur vervuld. Van den Bosch en Jansen was een Opel en U.S.-car dealer met 120 medewerkers en 3 vestigingen. Hier was Ton met name verantwoordelijk voor: \n-Strategisch beleid;\n-Relaties met importeurs en grote afnemers;\n-Personeelsbeleid;\n-Budget bewaking. \nNa zijn vertrek vanaf 1994 is Ton op een breed terrein in het bedrijfsleven actief geweest. Hij is onder andere actief geweest bij het begeleiden van overnames van diverse bedrijven binnen en buiten de automotive\, het begeleiden van reorganisaties en begeleid bij doorstarten na faillissement. Ook heeft Ton destijds in België een aantal Ford dealers begeleid en is hij interim directie geweest bij verschillende bedrijven. \nTon is tien jaar lang voorzitter van de Saab dealer vereniging geweest en is ook waarnemend voorzitter geweest van de Toyota dealer vereniging. Daarnaast is het ook voorzitter geweest van de Select Dealer Group\, voorzitter van de Stichting Nijmeegse Autobedrijven en voorzitter van de Ledenraad Beuningen van de Rabobank Rijk van Nijmegen. \n \nLet op! Beperkt aantal plekken beschikbaar. Schrijf je snel in! \nPlanning:\n16.45 inloop\n17.00 start\n18.30 einde/borrel \nLocatie:\nStationsplein 26\n6512AB\, Nijmegen \nHet volgen van de workshop is volledig GRATIS\, voor iedereen. Dus ook voor (startende) ondernemers die niet aangesloten zijn bij StartUp. \nWil je als student van het ROC\, HAN of RU meedoen? Vermeld dan onder het kopje “organisatie” jouw opleiding. \nBij afmeldingen korter dan 24u van tevoren óf bij een no show brengen we echter tien euro (ex. btw) in rekening.
URL:https://startupnijmegen.nl/evenement/college-tour/
CATEGORIES:Algemeen
END:VEVENT
END:VCALENDAR