BEGIN:VCALENDAR
VERSION:2.0
PRODID:-//StartUp Nijmegen - ECPv6.15.20//NONSGML v1.0//EN
CALSCALE:GREGORIAN
METHOD:PUBLISH
X-WR-CALNAME:StartUp Nijmegen
X-ORIGINAL-URL:https://startupnijmegen.nl
X-WR-CALDESC:Evenementen voor StartUp Nijmegen
REFRESH-INTERVAL;VALUE=DURATION:PT1H
X-Robots-Tag:noindex
X-PUBLISHED-TTL:PT1H
BEGIN:VTIMEZONE
TZID:Europe/Amsterdam
BEGIN:DAYLIGHT
TZOFFSETFROM:+0100
TZOFFSETTO:+0200
TZNAME:CEST
DTSTART:20250330T010000
END:DAYLIGHT
BEGIN:STANDARD
TZOFFSETFROM:+0200
TZOFFSETTO:+0100
TZNAME:CET
DTSTART:20251026T010000
END:STANDARD
BEGIN:DAYLIGHT
TZOFFSETFROM:+0100
TZOFFSETTO:+0200
TZNAME:CEST
DTSTART:20260329T010000
END:DAYLIGHT
BEGIN:STANDARD
TZOFFSETFROM:+0200
TZOFFSETTO:+0100
TZNAME:CET
DTSTART:20261025T010000
END:STANDARD
BEGIN:DAYLIGHT
TZOFFSETFROM:+0100
TZOFFSETTO:+0200
TZNAME:CEST
DTSTART:20270328T010000
END:DAYLIGHT
BEGIN:STANDARD
TZOFFSETFROM:+0200
TZOFFSETTO:+0100
TZNAME:CET
DTSTART:20271031T010000
END:STANDARD
END:VTIMEZONE
BEGIN:VEVENT
DTSTART;TZID=Europe/Amsterdam:20260422T090000
DTEND;TZID=Europe/Amsterdam:20260422T103000
DTSTAMP:20260425T055319
CREATED:20260422T091731Z
LAST-MODIFIED:20260422T091731Z
UID:34982-1776848400-1776853800@startupnijmegen.nl
SUMMARY:Briskr: Webinar: Haal meer uit je CRM - en geef je verkoopproces een AI-boost!
DESCRIPTION:Voor ondernemers\, salesprofessionals en business developers in B2B/B2G. \nHeb jij een haat-liefdeverhouding met je CRM? Je bent niet de enige. Veel mensen vinden het een lastig\, tijdrovend systeem. Maar… als je écht gestructureerd en schaalbaar wilt groeien met je sales\, dan is goed CRM-gebruik onmisbaar. \nIn dit praktische webinar laten we zien hoe je CRM niet als laatste\, maar als krachtig hulpmiddel inzet. Je ontdekt: \n\nWat je wél (en juist níet) moet doen met een CRM\, met mooie praktijkvoorbeelden\nHoe je het systeem voor je kunt laten werken – bijvoorbeeld bij forecasting of investor meetings\nWat er vaak misgaat bij startups\, scale-ups en MKB-bedrijven\nWelke rapportages iedere B2B-ondernemer of salesmanager zou moeten kennen\n\nBonus: AI in de verkoop\nWe verkennen ook slimme toepassingen van Artificial Intelligence in je salesaanpak\, waaronder AI-gedreven leadgeneratie. Je krijgt meteen toepasbare tips om vandaag nog aan de slag te gaan! \nOver de spreker – Hans Dirne\nHans Dirne is oprichter van Scale-Up.MBA en MyBusinessAdvisor\, en een veelgevraagd adviseur op het gebied van sales\, strategie en groei. Hij helpt startups\, scale-ups en MKB-bedrijven om hun commerciële fundament te versterken en écht schaalbaar te worden. Met zijn scherpe inzichten\, praktische aanpak en ervaring als ondernemer weet hij als geen ander hoe je CRM en AI in kunt zetten om je salesproces naar een hoger niveau te tillen. \n\nPraktische informatie over het webinar\nDe kosten voor dit webinar bedragen € 50\,- ex btw. Na afloop ontvang je een informatieblad en een aantal mails met salestips & tricks. Je registratie is definitief na betaling van de factuur die je per mail ontvangt van Briskr. \nEen paar dagen voorafgaand aan het webinar ontvang je van de trainer een outlook agendaverzoek met de daadwerkelijke link naar het webinar. Check eventueel ook je spambox! \nDit webinar organiseert Briskr samen met Connectr en Orion.
URL:https://startupnijmegen.nl/evenement/briskr-webinar-haal-meer-uit-je-crm-en-geef-je-verkoopproces-een-ai-boost/
LOCATION:Online
ATTACH;FMTTYPE=image/jpeg:https://startupnijmegen.nl/wp-content/uploads/2025/06/Briskrlogo.jpg
END:VEVENT
END:VCALENDAR