BEGIN:VCALENDAR
VERSION:2.0
PRODID:-//StartUp Nijmegen - ECPv6.15.20//NONSGML v1.0//EN
CALSCALE:GREGORIAN
METHOD:PUBLISH
X-WR-CALNAME:StartUp Nijmegen
X-ORIGINAL-URL:https://startupnijmegen.nl
X-WR-CALDESC:Evenementen voor StartUp Nijmegen
REFRESH-INTERVAL;VALUE=DURATION:PT1H
X-Robots-Tag:noindex
X-PUBLISHED-TTL:PT1H
BEGIN:VTIMEZONE
TZID:Europe/Amsterdam
BEGIN:DAYLIGHT
TZOFFSETFROM:+0100
TZOFFSETTO:+0200
TZNAME:CEST
DTSTART:20240331T010000
END:DAYLIGHT
BEGIN:STANDARD
TZOFFSETFROM:+0200
TZOFFSETTO:+0100
TZNAME:CET
DTSTART:20241027T010000
END:STANDARD
BEGIN:DAYLIGHT
TZOFFSETFROM:+0100
TZOFFSETTO:+0200
TZNAME:CEST
DTSTART:20250330T010000
END:DAYLIGHT
BEGIN:STANDARD
TZOFFSETFROM:+0200
TZOFFSETTO:+0100
TZNAME:CET
DTSTART:20251026T010000
END:STANDARD
BEGIN:DAYLIGHT
TZOFFSETFROM:+0100
TZOFFSETTO:+0200
TZNAME:CEST
DTSTART:20260329T010000
END:DAYLIGHT
BEGIN:STANDARD
TZOFFSETFROM:+0200
TZOFFSETTO:+0100
TZNAME:CET
DTSTART:20261025T010000
END:STANDARD
END:VTIMEZONE
BEGIN:VEVENT
DTSTART;TZID=Europe/Amsterdam:20250206T090000
DTEND;TZID=Europe/Amsterdam:20250206T120000
DTSTAMP:20260421T160112
CREATED:20250203T145848Z
LAST-MODIFIED:20250203T145848Z
UID:28817-1738832400-1738843200@startupnijmegen.nl
SUMMARY:Briskr & RVO Intellectueel eigendom inloopsessie
DESCRIPTION:Dit jaar organiseren we elke maand een inloop voor gezondheids- en hightechbedrijven. \nRienk werkt als adviseur intellectueel eigendom (IE) voor Octrooicentrum Nederland en helpt startende bedrijven en het MKB graag met hun vragen over IE-rechten in de breedste zin van het woord. Het Octrooicentrum Nederland is een officiële Nederlandse overheidsinstantie met als hoofddoel het stimuleren van innovatie in Nederland. Het doet dit door ondersteuning en begeleiding te bieden aan ondernemers\, de dienstensector\, wetenschappers\, onderzoekers\, docenten en studenten. Je kunt bij Rienk terecht met vragen over octrooien of andere manieren om je IE te beschermen. De dienstverlening is vertrouwelijk\, gratis en zonder commercieel belang. \nContact Rienk Rienksma \nJe kunt gewoon binnenlopen of een afspraak maken als je wilt: \nrienk.rienksma@rvo.nl
URL:https://startupnijmegen.nl/evenement/briskr-rvo-intellectueel-eigendom-inloopsessie/
LOCATION:Noviotech Campus\, Transistorweg 5\, Building M\, Meet&Greet\, Nijmegen\, Noviotech Campus\, Transistorweg 5\, Building M\, Meet&Greet\, Nijmegen\, Nijmegen\, 6534 AT\, Nederland
CATEGORIES:Externe activiteiten voor ondernemers
END:VEVENT
END:VCALENDAR