BEGIN:VCALENDAR
VERSION:2.0
PRODID:-//StartUp Nijmegen - ECPv6.15.20//NONSGML v1.0//EN
CALSCALE:GREGORIAN
METHOD:PUBLISH
X-WR-CALNAME:StartUp Nijmegen
X-ORIGINAL-URL:https://startupnijmegen.nl
X-WR-CALDESC:Evenementen voor StartUp Nijmegen
REFRESH-INTERVAL;VALUE=DURATION:PT1H
X-Robots-Tag:noindex
X-PUBLISHED-TTL:PT1H
BEGIN:VTIMEZONE
TZID:Europe/Amsterdam
BEGIN:DAYLIGHT
TZOFFSETFROM:+0100
TZOFFSETTO:+0200
TZNAME:CEST
DTSTART:20250330T010000
END:DAYLIGHT
BEGIN:STANDARD
TZOFFSETFROM:+0200
TZOFFSETTO:+0100
TZNAME:CET
DTSTART:20251026T010000
END:STANDARD
BEGIN:DAYLIGHT
TZOFFSETFROM:+0100
TZOFFSETTO:+0200
TZNAME:CEST
DTSTART:20260329T010000
END:DAYLIGHT
BEGIN:STANDARD
TZOFFSETFROM:+0200
TZOFFSETTO:+0100
TZNAME:CET
DTSTART:20261025T010000
END:STANDARD
BEGIN:DAYLIGHT
TZOFFSETFROM:+0100
TZOFFSETTO:+0200
TZNAME:CEST
DTSTART:20270328T010000
END:DAYLIGHT
BEGIN:STANDARD
TZOFFSETFROM:+0200
TZOFFSETTO:+0100
TZNAME:CET
DTSTART:20271031T010000
END:STANDARD
END:VTIMEZONE
BEGIN:VEVENT
DTSTART;TZID=Europe/Amsterdam:20260630T120000
DTEND;TZID=Europe/Amsterdam:20260630T160000
DTSTAMP:20260422T224222
CREATED:20260422T090951Z
LAST-MODIFIED:20260422T090951Z
UID:34978-1782820800-1782835200@startupnijmegen.nl
SUMMARY:Briskr: How to Finance
DESCRIPTION:Uitnodiging | How2Finance – lunchsessie voor startende ondernemers\nHoe financier ik mijn onderneming op de juiste manier?\nVoor veel ondernemers is financiering een van de grootste uitdagingen. Welke mogelijkheden zijn er in de verschillende fases van je bedrijf? Wanneer kies je voor een subsidie\, lening of investering? En hoe zorg je dat je goed voorbereid aan tafel zit bij financiers? \nTijdens How2Finance brengen Briskr en Oost NL ondernemers samen met experts uit het financieringsecosysteem. In één middag krijg je een helder overzicht van de belangrijkste financieringsroutes en kun je direct in gesprek met financiers en adviseurs. \nVan vroegefase-financiering tot groeikapitaal\, van crowdfunding tot business angels\, wij laten zien hoe het financieringslandschap eruitziet en wat het voor jouw onderneming kan betekenen. \nProgramma:\n12:00 – Inloop & lunch\n12:30 – Start programma\n16:00 – Borrel \n\nWat kun je verwachten?\n\nRuimte om te netwerken met andere ondernemers uit het health & hightech ecosysteem.\nEen compact overzicht van belangrijke financieringsinstrumenten voor startups en innovatieve mkb-bedrijven.\nPraktische inzichten van financiers zoals Rabobank\, RVO\, Oost NL Capital\, EFRO en Invesdor Benelux.\nEen ondernemersverhaal uit de praktijk: hoe doorloop je het financieringstraject echt?\nSpeeddate-sessies met financiers en experts om jouw financieringsvraag te bespreken en direct waardevolle feedback te krijgen.\nOf je nu net start of klaar bent voor een volgende groeistap: How2Finance helpt je om de juiste financieringsroute te vinden! We kijken ernaar uit je te ontmoeten tijdens dit inspirerende event.\n\nLocatie\nNoviotech Campus\, Transistorweg 5\, Gebouw M\, Meet&Greet\, Nijmegen. \nGoed om te weten\nDe bijeenkomst is in het Nederlands en wordt georganiseerd in samenwerking met Oost NL. \nDeelname aan deze workshop is gratis voor iedereen\, inclusief lunch en drankjes. Echter\, voor no show en annuleringen binnen 24 uur voorafgaand aan het evenement\, brengen we een vergoeding van 15 euro (exclusief btw) in rekening om gemaakte kosten te dekken. \nWe kijken ernaar uit je te verwelkomen! \nMeld je hier aan
URL:https://startupnijmegen.nl/evenement/briskr-how-to-finance/
LOCATION:Noviotech Campus\, Transistorweg 5\, Building M\, Meet&Greet\, Nijmegen\, Noviotech Campus\, Transistorweg 5\, Building M\, Meet&Greet\, Nijmegen\, Nijmegen\, 6534 AT\, Nederland
ATTACH;FMTTYPE=image/jpeg:https://startupnijmegen.nl/wp-content/uploads/2025/06/Briskrlogo.jpg
ORGANIZER;CN="Briskr & Oost NL":MAILTO:info@briskr.nl
END:VEVENT
END:VCALENDAR